BEGIN:VCALENDAR
VERSION:2.0
PRODID:-//Parteifreie Kolbermoor - ECPv6.11.2//NONSGML v1.0//EN
CALSCALE:GREGORIAN
METHOD:PUBLISH
X-ORIGINAL-URL:https://parteifreie-kolbermoor.de
X-WR-CALDESC:Veranstaltungen für Parteifreie Kolbermoor
REFRESH-INTERVAL;VALUE=DURATION:PT1H
X-Robots-Tag:noindex
X-PUBLISHED-TTL:PT1H
BEGIN:VTIMEZONE
TZID:UTC
BEGIN:STANDARD
TZOFFSETFROM:+0000
TZOFFSETTO:+0000
TZNAME:UTC
DTSTART:20250101T000000
END:STANDARD
END:VTIMEZONE
BEGIN:VEVENT
DTSTART;TZID=UTC:20260219T190000
DTEND;TZID=UTC:20260219T213000
DTSTAMP:20260422T154747
CREATED:20260104T084553Z
LAST-MODIFIED:20260104T085029Z
UID:1395-1771527600-1771536600@parteifreie-kolbermoor.de
SUMMARY:"Stadtgespräche" der Parteifreien Kolbermoor mit unserem Bürgermeisterkandidaten Thomas Rothmayer und Bewerberinnen und Bewerbern der Stadtratsliste
DESCRIPTION:„Stadtgespräche“ der Parteifreien Kolbermoor mit unserem Bürgermeisterkandidaten Thomas Rothmayer und Bewerberinnen und Bewerbern der Stadtratsliste in der Schmankerl Oim. \n \nDamit wird die Reihe der kommunalpolitischen Themen fortgesetzt.
URL:https://parteifreie-kolbermoor.de/termin/stadtgespraeche-der-parteifreien-kolbermoor-mit-unserem-buergermeisterkandidaten-thomas-rothmayer-und-bewerberinnen-und-bewerbern-der-stadtratsliste
LOCATION:Schmankerl Oim\, Rosenheimer Str. 46 a\, Kolbermoor\, 83059
ATTACH;FMTTYPE=image/jpeg:https://parteifreie-kolbermoor.de/wp-content/uploads/2025/09/13_IMG_4790.jpg
END:VEVENT
BEGIN:VEVENT
DTSTART;TZID=UTC:20260206T180000
DTEND;TZID=UTC:20260206T213000
DTSTAMP:20260422T154747
CREATED:20260103T105730Z
LAST-MODIFIED:20260103T110005Z
UID:1391-1770400800-1770413400@parteifreie-kolbermoor.de
SUMMARY:„Wertegespräch zur Kommunalwahl 2026“ mit Kandidaten/innen zur Bürgermeisterwahl
DESCRIPTION:Am Freitag\, 6. Februar \, um 18:00 Uhr lädt Pfarrer Markus Merz in das Evangelische Gemeindehaus Kolbermoor zu einer Veranstaltung mit dem Titel „Wertegespräch zur Kommunalwahl 2026“
URL:https://parteifreie-kolbermoor.de/termin/wertegespraech-zur-kommunalwahl-2026-mit-kandidaten-innen-zur-buergermeisterwahl
LOCATION:Evangelisches Gemeindehaus\, Carl-Jordan-Str. 5\, Kolbermoor\, 83059
ATTACH;FMTTYPE=image/jpeg:https://parteifreie-kolbermoor.de/wp-content/uploads/2026/01/Evang.-Kirche-Kolbermoor.jpg
END:VEVENT
BEGIN:VEVENT
DTSTART;TZID=UTC:20260131T143000
DTEND;TZID=UTC:20260131T190000
DTSTAMP:20260422T154747
CREATED:20260103T105113Z
LAST-MODIFIED:20260103T105113Z
UID:1387-1769869800-1769886000@parteifreie-kolbermoor.de
SUMMARY:1. Schafkopfturnier der Parteifreien Kolbermoor um 14:30 Uhr – 16:00 Uhr kommen die Schäffler zum Tanz
DESCRIPTION:1. Schafkopfturnier der Parteifreien Kolbermoor \nam Samstag\, 31.01.2026\, 14:30 Uhr       –  um 16:00 Uhr kommen die Schäffler zum Tanz \nim Kesselhaus\, Am der Alten Spinnerei 5\, 83059 Kolbermoor  – Stargebühr 10\,00 € \n\nPreis – 300 €\, 2. Preis 200 €\, 3. Preis 100 €\, sowie Tisch- und Schneiderpreis\n\nAnmeldung: trothmayer@parteifreie-kolbermoor.de \noder Tel. 08031/292116    – Für´s leibliche Wohl sorgen Michaela und Werner Mane mit Team
URL:https://parteifreie-kolbermoor.de/termin/1-schafkopfturnier-der-parteifreien-kolbermoor-um-1430-uhr-1600-uhr-kommen-die-schaeffler-zum-tanz
LOCATION:Kesselhaus Kolbermoor\, An der Alten Spinnerei 5\, Kolbermoor\, 83059
ATTACH;FMTTYPE=image/jpeg:https://parteifreie-kolbermoor.de/wp-content/uploads/2026/01/Schafkoppfen.jpeg
END:VEVENT
BEGIN:VEVENT
DTSTART;TZID=UTC:20260126T193000
DTEND;TZID=UTC:20260126T213000
DTSTAMP:20260422T154747
CREATED:20260103T104644Z
LAST-MODIFIED:20260103T104644Z
UID:1384-1769455800-1769463000@parteifreie-kolbermoor.de
SUMMARY:Podiumsdiskussion der Bürgermeisterkandidaten/innen von Kolbermoor
DESCRIPTION:Am 26.01.2026 lädt der Verein Energie-Beratung Kolbermoor e.V. alle Bürgerinnen und Bürger von Kolbermoor um 19:30 Uhr in den Mareissaal in Kolbermoor zu einer Vorstellungs- und Podiumsdiskussions- Veranstaltung der von den Parteien nominierten Kandidaten/innen zur Bürgermeisterwahl ein. \nIn einer Gesprächsrunde werden dann aktuelle\, regionale Themen angesprochen\, die der zukünftige Bürgermeister/die zukünftige Bürgermeisterin von Kolbermoor behandeln und gestalten würden. Schwerpunktthema der Diskussionsveranstaltung ist die weitere Umsetzung des integrierten Klimaschutzkonzeptes der Stadt Kolbermoor\, um die 2015 darin festgelegten Ziele bis 2035 noch zu erreichen. Fragen und Wünsche an die Kandidierenden zum Thema „Energie\, Klima- und Umweltschutz“ können bis zum 22.01.2026 per E-Mail an info@energieberatung-kolbermoor.de eingereicht werden. \n\n\n\n Infos zur Veranstaltung \n\nVeranstaltungstermin:\nMontag 26.01.2026 um 19:30\n\n\nVeranstaltungsort:\nMareissaal\nRosenheimer Straße 8\n83059 Kolbermoor
URL:https://parteifreie-kolbermoor.de/termin/podiumsdiskussion-der-buergermeisterkandidaten-innen-von-kolbermoor
LOCATION:Mareissaal Kolbermoor\, Rosenheimer Str. 8\, Kolbermoor\, 83059\, Germany
ATTACH;FMTTYPE=image/jpeg:https://parteifreie-kolbermoor.de/wp-content/uploads/2026/01/Klimaschutzkonzept-Kolbermoor-26.1.26.jpg
END:VEVENT
BEGIN:VEVENT
DTSTART;TZID=UTC:20260118T100000
DTEND;TZID=UTC:20260118T123000
DTSTAMP:20260422T154747
CREATED:20260103T103232Z
LAST-MODIFIED:20260103T103232Z
UID:1373-1768730400-1768739400@parteifreie-kolbermoor.de
SUMMARY:Weißwurstfrühstück mit gemütlichem Gedankenaustausch im Feuerwehrhaus Pullach
DESCRIPTION:„Weißwurstfrühstück mit gemütlichem Gedankenaustausch“ mit dem Bürgermeisterkandidat Thomas Rothmayer und Bewerberinnen und Bewerbern der Stadtratsliste 6 „Parteifreie Kolbermoor“
URL:https://parteifreie-kolbermoor.de/termin/weisswurstfruehstueck-mit-gemuetlichem-gedankenaustausch-im-feuerwehrhaus-pullach
LOCATION:Feuerwehrhaus Pullach\, Kagerbauer Str. 4\, Kolbermoor/Pullach\, 83059\, Germany
ATTACH;FMTTYPE=image/png:https://parteifreie-kolbermoor.de/wp-content/uploads/2026/01/Kolbermoor.Pullach-18.01.2026.png
END:VEVENT
BEGIN:VEVENT
DTSTART;TZID=UTC:20260116T190000
DTEND;TZID=UTC:20260116T233000
DTSTAMP:20260422T154747
CREATED:20260103T104239Z
LAST-MODIFIED:20260103T104239Z
UID:1377-1768590000-1768606200@parteifreie-kolbermoor.de
SUMMARY:"Jungwähler - Erstwähler - wie kann gewählt werden" - mit Auftritt des Faschingsvereins Mangfalltal anschließend DJ-Party mit DJ Jazz T2
DESCRIPTION:„Jungwähler – Erstwähler – Wie kann gewählt werden“ – Informationen zur Stadtrats- und Kreistagswahl anschließend DJ-Party mit DJ Jazz T2 und Auftritt des Faschingsvereins Mangfalltal um 19:00 Uhr \n 
URL:https://parteifreie-kolbermoor.de/termin/jungwaehler-erstwaehler-wie-kann-gewaehlt-werden-mit-auftritt-des-faschingsvereins-mangfalltal-anschliessend-dj-party-mit-dj-jazz-t2
LOCATION:Mareissaal Kolbermoor\, Rosenheimer Str. 8\, Kolbermoor\, 83059\, Germany
ATTACH;FMTTYPE=image/png:https://parteifreie-kolbermoor.de/wp-content/uploads/2026/01/Jazz-T2.png
END:VEVENT
BEGIN:VEVENT
DTSTART;TZID=UTC:20251113T193000
DTEND;TZID=UTC:20251113T213000
DTSTAMP:20260422T154747
CREATED:20251008T181015Z
LAST-MODIFIED:20251008T181015Z
UID:1280-1763062200-1763069400@parteifreie-kolbermoor.de
SUMMARY:Kommunalwahlen 2026: Wahl der Kandidatinnen und Kandidaten für Bürgermeister und Stadtrat
DESCRIPTION:
URL:https://parteifreie-kolbermoor.de/termin/kommunalwahlen-2026-wahl-der-kandidatinnen-und-kandidaten-fuer-buergermeister-und-stadtrat
LOCATION:Biohof Schlarb\, Dr.-Thann-Str. 1 a\, Kolbermoor\, 83059\, Deutschland
ATTACH;FMTTYPE=image/jpeg:https://parteifreie-kolbermoor.de/wp-content/uploads/2025/10/02_Logo_Parteifreie_Kolbermoorwww_4c3-scaled.jpg
END:VEVENT
BEGIN:VEVENT
DTSTART;TZID=UTC:20250925T193000
DTEND;TZID=UTC:20250925T213000
DTSTAMP:20260422T154747
CREATED:20250820T090624Z
LAST-MODIFIED:20250820T091049Z
UID:1264-1758828600-1758835800@parteifreie-kolbermoor.de
SUMMARY:"Stadtgespräche" bei den Parteifreien Kolbermoor im Seminarraum am Bahnhof Kolbermoor
DESCRIPTION:Die von den Parteifreien Kolbermoor kontinuierlich stattfindenden „Stadtgespräche“ über die kommunalen Themen der Stadt Kolbermoor finden im Seminarraum am Bahnhof in Kolbermoor am Donnerstag\, 25.09.25 um 19:30 Uhr statt. In gemütlicher Runde\, kann die Themenvielfalt von Kolbermoor besprochen werden. Bürgermeisterkandidat Thomas Rothmayer steht für Fragen zu seiner Kandidatur gerne zur Verfügung. Die aktuellen Tagesordnungspunkte aus dem Stadtrat (z. B. neue Stellplatzsatzung ab 01.10.25 ua) beantworten unsere Stadträte. Eingeladen sind alle Intressierten Bürger.
URL:https://parteifreie-kolbermoor.de/termin/stadtgespraeche-bei-den-parteifreien-kolbermoor-im-seminarraum-am-bahnhof-kolbermoor
LOCATION:Bahnhofstr. 14\, 83059 Kolbermoor
ATTACH;FMTTYPE=image/jpeg:https://parteifreie-kolbermoor.de/wp-content/uploads/2025/05/Sedlmayr-2025.jpg
END:VEVENT
BEGIN:VEVENT
DTSTART;TZID=UTC:20250814T180000
DTEND;TZID=UTC:20250814T230000
DTSTAMP:20260422T154747
CREATED:20250603T111340Z
LAST-MODIFIED:20250603T111754Z
UID:1208-1755194400-1755212400@parteifreie-kolbermoor.de
SUMMARY:Sommerfest der Parteifreien Kolbermoor 2025 beim Biohof Schlarb
DESCRIPTION:Sehr verehrte Vereinsmitglieder\, \nfür unser traditionelles Sommerfest am 14.08.2025 der Parteifreien Kolbermoor bitte ich um Rückmeldung\, wer mit wieviel Personen teilnimmt\, damit wir entsprechend einkaufen und planen können. \nWir freuen uns natürlich sehr über mitgebrachte Salate / Beilagen oder Nachspeisen  (bei der Anmeldung angeben) \nRückmeldung: info@parteifreie-kolbermoor.de \nIch danke der Familie Schlarb für die tatkräftige Unterstützung. \nmit freundlichen Grüßen \nChristian Sedlmayr 1. Vorsitzender
URL:https://parteifreie-kolbermoor.de/termin/sommerfest-der-parteifreien-kolbermoor-2025
LOCATION:Biohof Schlarb\, Dr.-Thann-Str. 1 a\, Kolbermoor\, 83059\, Deutschland
ATTACH;FMTTYPE=image/jpeg:https://parteifreie-kolbermoor.de/wp-content/uploads/2023/08/Sommerf-2023.jpg
END:VEVENT
BEGIN:VEVENT
DTSTART;TZID=UTC:20250724T193000
DTEND;TZID=UTC:20250724T213000
DTSTAMP:20260422T154747
CREATED:20250702T054006Z
LAST-MODIFIED:20250702T054006Z
UID:1231-1753385400-1753392600@parteifreie-kolbermoor.de
SUMMARY:"Stadtgespräche" bei den Parteifreien Kolbermoor im Biergarten
DESCRIPTION:Die von den Parteifreien Kolbermoor kontinuierlich stattfindenden „Stadtgespräche“ über die kommunalen Themen der Stadt Kolbermoor finden im Biohof Schlarb in Schlarbhofen am Donnerstag\, 24.07. um 19:30 Uhr statt. Gemütlich im Biergarten\, kann die Themenvielfalt von Kolbermoor besprochen werden. Die Veranstaltung findet bei jeder Witterung statt und kann ggf. auch in den Gastraum verlegt werden. \nEingeladen sind nicht nur Mitglieder\, sondern alle interessierten Bürger am Stadtgeschehen. Bereits im Frühjahr wurden u. a. Themen zum Musikschulanbau\, Planung des Parkhauses an der Hasslerstraße und Sanierung des städtischen Mareissaals angesprochen. Der Bürgermeisterkandidat zur Kommunalwahl am 08.03.2026 für die Stadt Kolbermoor\, Thomas Rothmayer\, wird sich gerne vorstellen.
URL:https://parteifreie-kolbermoor.de/termin/stadtgespraeche-bei-den-parteifreien-kolbermoor-im-biergarten
ATTACH;FMTTYPE=image/jpeg:https://parteifreie-kolbermoor.de/wp-content/uploads/2025/07/Ankuendigung-250725.jpg
END:VEVENT
BEGIN:VEVENT
DTSTART;TZID=UTC:20250625T190000
DTEND;TZID=UTC:20250625T210000
DTSTAMP:20260422T154747
CREATED:20250602T080152Z
LAST-MODIFIED:20250602T080152Z
UID:1205-1750878000-1750885200@parteifreie-kolbermoor.de
SUMMARY:Betriebsbesichtigung der Kolbermoorer Firma Keidel Aufbereitungszentrum – Fahrzeugaufbereitung\, Rosenheimer Str\, 47
DESCRIPTION:Die Parteifreien Kolbermoor laden ihre Mitglieder und Interessierte zur Betriebsbesichtigung der Kolbermoorer Firma \nKeidel Aufbereitungszentrum – Fahrzeugaufbereitung\, Rosenheimer Str\, 47 \nam Mittwoch\, 25.06.2025 um 19:00 Uhr – Treffen vor der Halle \nUm die Anzahl der Interessierten einzuschätzen\, bitten wir um Anmeldung bis Montag 23.06. unter info@parteifreie-kolbermoor.de \n  \nMit freundlichen Grüßen \nChristian Sedlmayr \n\nVorsitzender
URL:https://parteifreie-kolbermoor.de/termin/betriebsbesichtigung-der-kolbermoorer-firma-keidel-aufbereitungszentrum-fahrzeugaufbereitung-rosenheimer-str-47
ATTACH;FMTTYPE=image/jpeg:https://parteifreie-kolbermoor.de/wp-content/uploads/2025/06/Keidel.jpg
END:VEVENT
BEGIN:VEVENT
DTSTART;TZID=UTC:20250514T193000
DTEND;TZID=UTC:20250514T220000
DTSTAMP:20260422T154747
CREATED:20260104T144947Z
LAST-MODIFIED:20260104T144947Z
UID:1403-1747251000-1747260000@parteifreie-kolbermoor.de
SUMMARY:Jahreshauptversammlung am 14.05.2025 - 19:30 Uhr - Themen u.a. Neuwahlen Vorstandschaft\, Vorbereitung der Kommunalwahlen 2026
DESCRIPTION:Die Parteifreien Kolbermoor laden die Mietglieder und interessierte Bürger*innen zur Jahreshauptversammlung am Mittwoch\, 14.05. um 19:30 Uhr in die Hofwirtschaft in Schlarbhofen\, Dr. Thann-Str.1 a\, 83059 Kolbermoor \nThemen u. a. Neuwahlen der Vorstandschaft u. Vorbereitung zu den Kommunalwahlen 2026
URL:https://parteifreie-kolbermoor.de/termin/jahreshauptversammlung-am-14-05-2025-1930-uhr-themen-u-a-neuwahlen-vorstandschaft-vorbereitung-der-kommunalwahlen-2026
LOCATION:Biohof Schlarb\, Dr.-Thann-Str. 1 a\, Kolbermoor\, 83059\, Deutschland
ATTACH;FMTTYPE=image/jpeg:https://parteifreie-kolbermoor.de/wp-content/uploads/2026/01/Christian-Sedlmayr.jpg
END:VEVENT
END:VCALENDAR